BEGIN:VCALENDAR
VERSION:2.0
PRODID:-//Brain Health Virginia - ECPv6.15.20//NONSGML v1.0//EN
CALSCALE:GREGORIAN
METHOD:PUBLISH
X-WR-CALNAME:Brain Health Virginia
X-ORIGINAL-URL:https://www.vdh.virginia.gov/brain-health
X-WR-CALDESC:Events for Brain Health Virginia
REFRESH-INTERVAL;VALUE=DURATION:PT1H
X-Robots-Tag:noindex
X-PUBLISHED-TTL:PT1H
BEGIN:VTIMEZONE
TZID:America/New_York
BEGIN:DAYLIGHT
TZOFFSETFROM:-0500
TZOFFSETTO:-0400
TZNAME:EDT
DTSTART:20250309T070000
END:DAYLIGHT
BEGIN:STANDARD
TZOFFSETFROM:-0400
TZOFFSETTO:-0500
TZNAME:EST
DTSTART:20251102T060000
END:STANDARD
BEGIN:DAYLIGHT
TZOFFSETFROM:-0500
TZOFFSETTO:-0400
TZNAME:EDT
DTSTART:20260308T070000
END:DAYLIGHT
BEGIN:STANDARD
TZOFFSETFROM:-0400
TZOFFSETTO:-0500
TZNAME:EST
DTSTART:20261101T060000
END:STANDARD
BEGIN:DAYLIGHT
TZOFFSETFROM:-0500
TZOFFSETTO:-0400
TZNAME:EDT
DTSTART:20270314T070000
END:DAYLIGHT
BEGIN:STANDARD
TZOFFSETFROM:-0400
TZOFFSETTO:-0500
TZNAME:EST
DTSTART:20271107T060000
END:STANDARD
END:VTIMEZONE
BEGIN:VEVENT
DTSTART;TZID=America/New_York:20260312T140000
DTEND;TZID=America/New_York:20260430T160000
DTSTAMP:20260419T154949
CREATED:20260205T222625Z
LAST-MODIFIED:20260205T222625Z
UID:1340-1773324000-1777564800@www.vdh.virginia.gov
SUMMARY:CHW Core Competency Training Available Nationwide (Spring 2026)
DESCRIPTION:Join our CHW Core Competency Training available nationwide this spring for CHWs across the country who are looking to strengthen foundational skills and deepen their practice. \n• Training Dates: March 12 – April 30\, 2026 (weekly on Thursdays)\n• Time: 2:00–4:00 p.m. ET\n• Format: Self-paced online instruction and live sessions\n• Cohort Size: Limited to 25 participants \nThe 80-hour CHW Core Competency Training is delivered through a hybrid model grounded in the roles and competencies outlined by the National C3 Council. The 12-week program combines self-paced online instruction covering CHW foundations and health-focused competencies\, assigned coursework\, live virtual group sessions\, and a field experience. This structure supports effective onboarding and skill development for Community Health Workers. \nTraining fee applies. \nAdditional details\, including curriculum overview and registration information\, are available on MCD Learn. For course registration questions please email chwinfo@mcd.org. \nLearn More \nApply
URL:https://www.vdh.virginia.gov/brain-health/event/chw-core-competency-training-available-nationwide-spring-2026/
LOCATION:Virtual
ORGANIZER;CN="MCD Global Health":MAILTO:nationalpartners@mcd.org
END:VEVENT
BEGIN:VEVENT
DTSTART;TZID=America/New_York:20260316T190000
DTEND;TZID=America/New_York:20260316T200000
DTSTAMP:20260419T154949
CREATED:20260205T222939Z
LAST-MODIFIED:20260205T222939Z
UID:1342-1773687600-1773691200@www.vdh.virginia.gov
SUMMARY:Dementia in Adults with IDD and Down Syndrome: What to Look for at the Primary Care Visit.
DESCRIPTION:Presenter: Brian Chicoine\, MD\, Advocate Health Care\, Adult Down Syndrome Clinic \nThis one-hour webinar provides primary care clinicians with practical\, visit-ready strategies for evaluating possible dementia in adults with intellectual and developmental disabilities (IDD). The session focuses on recognizing IDD-specific dementia presentations\, distinguishing lifelong baseline from new decline\, incorporating caregiver input\, and identifying when monitoring or specialty referral is needed\, using real-world case examples. \nRegister Now
URL:https://www.vdh.virginia.gov/brain-health/event/dementia-in-adults-with-idd-and-down-syndrome-what-to-look-for-at-the-primary-care-visit/
LOCATION:Virtual
ORGANIZER;CN="National Task Group on Intellectual Disabilities and Dementia Practice":MAILTO:kathrynpears@the-ntg.org
END:VEVENT
BEGIN:VEVENT
DTSTART;TZID=America/New_York:20260316T190000
DTEND;TZID=America/New_York:20260316T200000
DTSTAMP:20260419T154949
CREATED:20260313T160158Z
LAST-MODIFIED:20260313T160158Z
UID:1374-1773687600-1773691200@www.vdh.virginia.gov
SUMMARY:Dementia in Adults with IDD and Down Syndrome: What to Look for at the Primary Care Visit.
DESCRIPTION:Presenter: Brian Chicoine\, MD\, Advocate Health Care\, Adult Down Syndrome Clinic \nThis one-hour webinar provides primary care clinicians with practical\, visit-ready strategies for evaluating possible dementia in adults with intellectual and developmental disabilities (IDD). The session focuses on recognizing IDD-specific dementia presentations\, distinguishing lifelong baseline from new decline\, incorporating caregiver input\, and identifying when monitoring or specialty referral is needed\, using real-world case examples. \nRegister
URL:https://www.vdh.virginia.gov/brain-health/event/dementia-in-adults-with-idd-and-down-syndrome-what-to-look-for-at-the-primary-care-visit-2/
LOCATION:Virtual
ORGANIZER;CN="National Task Group on Intellectual Disabilities and Dementia Practice":MAILTO:kathrynpears@the-ntg.org
END:VEVENT
BEGIN:VEVENT
DTSTART;TZID=America/New_York:20260317T140000
DTEND;TZID=America/New_York:20260317T150000
DTSTAMP:20260419T154949
CREATED:20260213T145617Z
LAST-MODIFIED:20260213T153946Z
UID:1353-1773756000-1773759600@www.vdh.virginia.gov
SUMMARY:Addressing Food Insecurity for People Living Alone with Dementia
DESCRIPTION:National data indicate that nearly one quarter of older Americans living alone have dementia. This population faces numerous challenges\, including food insecurity\, which is often worsened by cognitive impairment\, limited social support\, and physical isolation. Traditional senior meal delivery programs are not always designed to address the unique needs of individuals with cognitive impairment\, who may have difficulty safely storing\, preparing\, or cooking meals. \nThis webinar will provide insight into an innovative\, volunteer-based food delivery model created to better support seniors living alone with dementia. Participants will learn about common barriers to food-based services experienced by individuals living alone with dementia\, the key components of an effective food delivery service model for people living alone with dementia\, and program evaluation best practices for measuring the impact of services for this population. \nAdditional information about this webinar and the registration form can be found here. \nPlease note: \n\nNational Alzheimer’s and Dementia Resource Center (NADRC) webinars are free of charge and open to the public.\nNADRC webinars are recorded and will be available for viewing at https://nadrc.acl.gov.\nPre-registration is required to attend the live webinars.\nClosed captioning is available during the live event and is included in the recording for all NADRC webinars.
URL:https://www.vdh.virginia.gov/brain-health/event/addressing-food-insecurity-for-people-living-alone-with-dementia/
LOCATION:Virtual
ORGANIZER;CN="National Alzheimer%E2%80%99s and Dementia Resource Center":MAILTO:NADRC-Webinars@rti.org
END:VEVENT
BEGIN:VEVENT
DTSTART;TZID=America/New_York:20260318T130000
DTEND;TZID=America/New_York:20260318T140000
DTSTAMP:20260419T154949
CREATED:20260226T165733Z
LAST-MODIFIED:20260226T165755Z
UID:1365-1773838800-1773842400@www.vdh.virginia.gov
SUMMARY:Chair Yoga for Strength\, Balance & Relaxation
DESCRIPTION:Presenter: Sherri Gjerdingen\, Zunity Lifestyle\nPresented in Partnership With: CSD Access & AARP \nRegistration required. \nRegister
URL:https://www.vdh.virginia.gov/brain-health/event/chair-yoga-for-strength-balance-relaxation/
LOCATION:Virtual
END:VEVENT
BEGIN:VEVENT
DTSTART;TZID=America/New_York:20260325T153000
DTEND;TZID=America/New_York:20260325T163000
DTSTAMP:20260419T154949
CREATED:20260226T165921Z
LAST-MODIFIED:20260226T165921Z
UID:1367-1774452600-1774456200@www.vdh.virginia.gov
SUMMARY:Alcohol Use and Trauma in the Deaf Community
DESCRIPTION:Do you want to better understand the connection between alcohol use and trauma among older adults in the Deaf community? \nJoin DeafHealth and DSA for a free\, informative webinar exploring alcohol use\, trauma\, and accessible paths to support. This session will highlight the Signs of Safety project – a therapy approach developed specifically for deaf individuals navigating trauma and alcohol use. \nModerator: Sherri Collins\, Executive Director\, DSA \nPresenters: Dr. Melissa Anderson and the Deaf YES! Empowerment and Recovery Team \nThis webinar will be presented in ASL\, voiced in English\, and captioned. \nAccessible livestream made possible by DeafHealth and CSD Access. \nRegister
URL:https://www.vdh.virginia.gov/brain-health/event/alcohol-use-and-trauma-in-the-deaf-community/
LOCATION:Virtual
END:VEVENT
END:VCALENDAR